BEGIN:VCALENDAR
VERSION:2.0
PRODID:icalendar-ruby
CALSCALE:GREGORIAN
METHOD:PUBLISH
BEGIN:VEVENT
DTSTAMP:20260419T160606Z
UID:27-371339@cedarcreekcog.com
DTSTART:20260621T124500Z
DTEND:20260621T134500Z
CLASS:PUBLIC
CREATED:20260413T081435
DESCRIPTION:We love to honor dads on Father's Day. So\, on Sunday\, June 21
 st\, we invite all dads to join us for a sweet start to the day. From 8:45
  - 9:45 am\, breakfast will be served in the C.A.C. This Father's Day\, we
  hope our dads feel loved\, honored\, and appreciated.
LAST-MODIFIED:20260413T081435
LOCATION:
SUMMARY:Donuts with Dad
URL;VALUE=URI:https://cedarcreekcog.com/events/donuts-with-dad/2026-06-21
ATTACH;FILENAME=Donuts-with-Dad-2.png;FMTTYPE=image/png:https://dq5pwpg1q8r
 u0.cloudfront.net/2025/02/24/13/56/48/54bc1fa1-02d9-48ad-90e7-8dae96e2b734
 /Donuts-with-Dad-2.png
END:VEVENT
END:VCALENDAR
